BEGIN:VCALENDAR
VERSION:2.0
PRODID:http://www.zoiglapp.de/
METHOD:PUBLISH
BEGIN:VEVENT
UID:event_id_4219@zoiglapp.de
ORGANIZER;CN="ZoiglApp.de Team":MAILTO:kontakt@zoiglapp.de
SUMMARY:Annis Heberbräu Powered by ZoiglApp.de
DESCRIPTION;ENCODING=QUOTED-PRINTABLE;CHARSET=UTF-8:Wie gewünscht benachrichtigen wir dich, dass Annis Heberbräu aktuell geöffnet hat!
CLASS:PUBLIC
DTSTART:20200101T180000
DTEND:20990102T000000
LOCATION:Auerbacher Straße 14, 91281 Kirchenthumbach
GEO:49.7459;11.7238
URL:http://zoiglapp.de/zeigestube.php?id=4219
CATEGORIES:Veranstaltung
TRANSP:opac
END:VEVENT
BEGIN:VEVENT
UID:event_id_@zoiglapp.de
ORGANIZER;CN="ZoiglApp.de Team":MAILTO:kontakt@zoiglapp.de
SUMMARY:Annis Heberbräu Powered by ZoiglApp.de
DESCRIPTION;ENCODING=QUOTED-PRINTABLE;CHARSET=UTF-8:Wie gewünscht benachrichtigen wir dich, dass Annis Heberbräu aktuell geöffnet hat!
CLASS:PUBLIC
DTSTART:20260424T180000
DTEND:20260425T000000
LOCATION:Auerbacher Straße 14, 91281 Kirchenthumbach
GEO:49.7459;11.7238
URL:http://zoiglapp.de/zeigestube.php?id=
CATEGORIES:Veranstaltung
TRANSP:opac
END:VEVENT
END:VCALENDAR