BEGIN:VCALENDAR
VERSION:2.0
PRODID:http://www.zoiglapp.de/
METHOD:PUBLISH
BEGIN:VEVENT
UID:event_id_@zoiglapp.de
ORGANIZER;CN="ZoiglApp.de Team":MAILTO:kontakt@zoiglapp.de
SUMMARY:Zoigl Hohenthan Powered by ZoiglApp.de
DESCRIPTION;ENCODING=QUOTED-PRINTABLE;CHARSET=UTF-8:Wie gewünscht benachrichtigen wir dich, dass Zoigl Hohenthan aktuell geöffnet hat!
CLASS:PUBLIC
DTSTART:20260424T180000
DTEND:20260425T000000
LOCATION:Alte Dorfstraße 16, 95671 Bärnau / Hohenthan
GEO:49.801;12.3858
URL:http://zoiglapp.de/zeigestube.php?id=
CATEGORIES:Veranstaltung
TRANSP:opac
END:VEVENT
BEGIN:VEVENT
UID:event_id_1285@zoiglapp.de
ORGANIZER;CN="ZoiglApp.de Team":MAILTO:kontakt@zoiglapp.de
SUMMARY:Zoigl Hohenthan Powered by ZoiglApp.de
DESCRIPTION;ENCODING=QUOTED-PRINTABLE;CHARSET=UTF-8:Wie gewünscht benachrichtigen wir dich, dass Zoigl Hohenthan aktuell geöffnet hat!
CLASS:PUBLIC
DTSTART:20141003T180000
DTEND:20141007T000000
LOCATION:Alte Dorfstraße 16, 95671 Bärnau / Hohenthan
GEO:49.801;12.3858
URL:http://zoiglapp.de/zeigestube.php?id=1285
CATEGORIES:Veranstaltung
TRANSP:opac
END:VEVENT
END:VCALENDAR