BEGIN:VCALENDAR
VERSION:2.0
PRODID:http://www.zoiglapp.de/
METHOD:PUBLISH
BEGIN:VEVENT
UID:event_id_@zoiglapp.de
ORGANIZER;CN="ZoiglApp.de Team":MAILTO:kontakt@zoiglapp.de
SUMMARY:Zoigl am Eck Powered by ZoiglApp.de
DESCRIPTION;ENCODING=QUOTED-PRINTABLE;CHARSET=UTF-8:Wie gewünscht benachrichtigen wir dich, dass Zoigl am Eck aktuell geöffnet hat!
CLASS:PUBLIC
DTSTART:20260424T180000
DTEND:20260425T000000
LOCATION:Kirchenstraße 2, 95652 Waldsassen
GEO:50.003;12.3083
URL:http://zoiglapp.de/zeigestube.php?id=
CATEGORIES:Veranstaltung
TRANSP:opac
END:VEVENT
BEGIN:VEVENT
UID:event_id_877@zoiglapp.de
ORGANIZER;CN="ZoiglApp.de Team":MAILTO:kontakt@zoiglapp.de
SUMMARY:Zoigl am Eck Powered by ZoiglApp.de
DESCRIPTION;ENCODING=QUOTED-PRINTABLE;CHARSET=UTF-8:Wie gewünscht benachrichtigen wir dich, dass Zoigl am Eck aktuell geöffnet hat!
CLASS:PUBLIC
DTSTART:20140102T180000
DTEND:20140105T000000
LOCATION:Kirchenstraße 2, 95652 Waldsassen
GEO:50.003;12.3083
URL:http://zoiglapp.de/zeigestube.php?id=877
CATEGORIES:Veranstaltung
TRANSP:opac
END:VEVENT
END:VCALENDAR