BEGIN:VCALENDAR
VERSION:2.0
PRODID:http://www.zoiglapp.de/
METHOD:PUBLISH
BEGIN:VEVENT
UID:event_id_693@zoiglapp.de
ORGANIZER;CN="ZoiglApp.de Team":MAILTO:kontakt@zoiglapp.de
SUMMARY:Zum Stich'n Powered by ZoiglApp.de
DESCRIPTION;ENCODING=QUOTED-PRINTABLE;CHARSET=UTF-8:Wie gewünscht benachrichtigen wir dich, dass Zum Stich'n aktuell geöffnet hat!
CLASS:PUBLIC
DTSTART:20120217T180000
DTEND:20920218T000000
LOCATION:Untere Bachgasse 6, 92637 Weiden i. d. Oberpfalz
GEO:49.6741;12.187
URL:http://zoiglapp.de/zeigestube.php?id=693
CATEGORIES:Veranstaltung
TRANSP:opac
END:VEVENT
BEGIN:VEVENT
UID:event_id_@zoiglapp.de
ORGANIZER;CN="ZoiglApp.de Team":MAILTO:kontakt@zoiglapp.de
SUMMARY:Zum Stich'n Powered by ZoiglApp.de
DESCRIPTION;ENCODING=QUOTED-PRINTABLE;CHARSET=UTF-8:Wie gewünscht benachrichtigen wir dich, dass Zum Stich'n aktuell geöffnet hat!
CLASS:PUBLIC
DTSTART:20260424T180000
DTEND:20260425T000000
LOCATION:Untere Bachgasse 6, 92637 Weiden i. d. Oberpfalz
GEO:49.6741;12.187
URL:http://zoiglapp.de/zeigestube.php?id=
CATEGORIES:Veranstaltung
TRANSP:opac
END:VEVENT
END:VCALENDAR