BEGIN:VCALENDAR
VERSION:2.0
PRODID:http://www.zoiglapp.de/
METHOD:PUBLISH
BEGIN:VEVENT
UID:event_id_@zoiglapp.de
ORGANIZER;CN="ZoiglApp.de Team":MAILTO:kontakt@zoiglapp.de
SUMMARY:Schafferhof Powered by ZoiglApp.de
DESCRIPTION;ENCODING=QUOTED-PRINTABLE;CHARSET=UTF-8:Wie gewünscht benachrichtigen wir dich, dass Schafferhof aktuell geöffnet hat!
CLASS:PUBLIC
DTSTART:20260424T180000
DTEND:20260425T000000
LOCATION:Burgstraße 6, 92670 Neuhaus (Windischeschenbach)
GEO:49.7998;12.1639
URL:http://zoiglapp.de/zeigestube.php?id=
CATEGORIES:Veranstaltung
TRANSP:opac
END:VEVENT
BEGIN:VEVENT
UID:event_id_283@zoiglapp.de
ORGANIZER;CN="ZoiglApp.de Team":MAILTO:kontakt@zoiglapp.de
SUMMARY:Schafferhof Powered by ZoiglApp.de
DESCRIPTION;ENCODING=QUOTED-PRINTABLE;CHARSET=UTF-8:Wie gewünscht benachrichtigen wir dich, dass Schafferhof aktuell geöffnet hat!
CLASS:PUBLIC
DTSTART:20130308T180000
DTEND:20130312T000000
LOCATION:Burgstraße 6, 92670 Neuhaus (Windischeschenbach)
GEO:49.7998;12.1639
URL:http://zoiglapp.de/zeigestube.php?id=283
CATEGORIES:Veranstaltung
TRANSP:opac
END:VEVENT
END:VCALENDAR