BEGIN:VCALENDAR
VERSION:2.0
PRODID:http://www.zoiglapp.de/
METHOD:PUBLISH
BEGIN:VEVENT
UID:event_id_@zoiglapp.de
ORGANIZER;CN="ZoiglApp.de Team":MAILTO:kontakt@zoiglapp.de
SUMMARY:Beim Heigl Powered by ZoiglApp.de
DESCRIPTION;ENCODING=QUOTED-PRINTABLE;CHARSET=UTF-8:Wie gewünscht benachrichtigen wir dich, dass Beim Heigl aktuell geöffnet hat!
CLASS:PUBLIC
DTSTART:20260424T180000
DTEND:20260425T000000
LOCATION:Schlossgasse 5, 92718 Schirmitz
GEO:49.6535;12.1695
URL:http://zoiglapp.de/zeigestube.php?id=
CATEGORIES:Veranstaltung
TRANSP:opac
END:VEVENT
BEGIN:VEVENT
UID:event_id_570@zoiglapp.de
ORGANIZER;CN="ZoiglApp.de Team":MAILTO:kontakt@zoiglapp.de
SUMMARY:Beim Heigl Powered by ZoiglApp.de
DESCRIPTION;ENCODING=QUOTED-PRINTABLE;CHARSET=UTF-8:Wie gewünscht benachrichtigen wir dich, dass Beim Heigl aktuell geöffnet hat!
CLASS:PUBLIC
DTSTART:20130412T180000
DTEND:20130416T000000
LOCATION:Schlossgasse 5, 92718 Schirmitz
GEO:49.6535;12.1695
URL:http://zoiglapp.de/zeigestube.php?id=570
CATEGORIES:Veranstaltung
TRANSP:opac
END:VEVENT
END:VCALENDAR