BEGIN:VCALENDAR
VERSION:2.0
PRODID:http://www.zoiglapp.de/
METHOD:PUBLISH
BEGIN:VEVENT
UID:event_id_@zoiglapp.de
ORGANIZER;CN="ZoiglApp.de Team":MAILTO:kontakt@zoiglapp.de
SUMMARY:Zum Haner Powered by ZoiglApp.de
DESCRIPTION;ENCODING=QUOTED-PRINTABLE;CHARSET=UTF-8:Wie gewünscht benachrichtigen wir dich, dass Zum Haner aktuell geöffnet hat!
CLASS:PUBLIC
DTSTART:20260424T180000
DTEND:20260425T000000
LOCATION:Botzersreuth 3, 92715 Püchersreuth
GEO:49.7642;12.2129
URL:http://zoiglapp.de/zeigestube.php?id=
CATEGORIES:Veranstaltung
TRANSP:opac
END:VEVENT
BEGIN:VEVENT
UID:event_id_549@zoiglapp.de
ORGANIZER;CN="ZoiglApp.de Team":MAILTO:kontakt@zoiglapp.de
SUMMARY:Zum Haner Powered by ZoiglApp.de
DESCRIPTION;ENCODING=QUOTED-PRINTABLE;CHARSET=UTF-8:Wie gewünscht benachrichtigen wir dich, dass Zum Haner aktuell geöffnet hat!
CLASS:PUBLIC
DTSTART:20130420T180000
DTEND:20130422T000000
LOCATION:Botzersreuth 3, 92715 Püchersreuth
GEO:49.7642;12.2129
URL:http://zoiglapp.de/zeigestube.php?id=549
CATEGORIES:Veranstaltung
TRANSP:opac
END:VEVENT
END:VCALENDAR