BEGIN:VCALENDAR
VERSION:2.0
PRODID:http://www.zoiglapp.de/
METHOD:PUBLISH
BEGIN:VEVENT
UID:event_id_@zoiglapp.de
ORGANIZER;CN="ZoiglApp.de Team":MAILTO:kontakt@zoiglapp.de
SUMMARY:Zoiglbauer Zoiglstub´n Powered by ZoiglApp.de
DESCRIPTION;ENCODING=QUOTED-PRINTABLE;CHARSET=UTF-8:Wie gewünscht benachrichtigen wir dich, dass Zoiglbauer Zoiglstub´n aktuell geöffnet hat!
CLASS:PUBLIC
DTSTART:20260424T180000
DTEND:20260425T000000
LOCATION:Kirchplatz 3, 95666 Mitterteich
GEO:49.9508;12.2426
URL:http://zoiglapp.de/zeigestube.php?id=
CATEGORIES:Veranstaltung
TRANSP:opac
END:VEVENT
BEGIN:VEVENT
UID:event_id_464@zoiglapp.de
ORGANIZER;CN="ZoiglApp.de Team":MAILTO:kontakt@zoiglapp.de
SUMMARY:Zoiglbauer Zoiglstub´n Powered by ZoiglApp.de
DESCRIPTION;ENCODING=QUOTED-PRINTABLE;CHARSET=UTF-8:Wie gewünscht benachrichtigen wir dich, dass Zoiglbauer Zoiglstub´n aktuell geöffnet hat!
CLASS:PUBLIC
DTSTART:20130320T180000
DTEND:20130325T000000
LOCATION:Kirchplatz 3, 95666 Mitterteich
GEO:49.9508;12.2426
URL:http://zoiglapp.de/zeigestube.php?id=464
CATEGORIES:Veranstaltung
TRANSP:opac
END:VEVENT
END:VCALENDAR